BEGIN:VCALENDAR
VERSION:2.0
PRODID:-//Site de la commune de Saint-André le Puy - ECPv4.6.14.1//NONSGML v1.0//EN
CALSCALE:GREGORIAN
METHOD:PUBLISH
X-WR-CALNAME:Site de la commune de Saint-André le Puy
X-ORIGINAL-URL:http://www.mairie-saintandrelepuy.fr
X-WR-CALDESC:Events for Site de la commune de Saint-André le Puy
BEGIN:VEVENT
DTSTART;TZID=Europe/Paris:20250624T080000
DTEND;TZID=Europe/Paris:20250703T170000
DTSTAMP:20260424T091721
CREATED:20250605T130206Z
LAST-MODIFIED:20250605T131034Z
UID:4982-1750752000-1751562000@www.mairie-saintandrelepuy.fr
SUMMARY:Micro folie à St André le Puy
DESCRIPTION:Les micro folies seront à SAINT ANDRE LE PUY  \ndu 24 juin au 03 juillet 2025 \nprogramme micro folie \n
URL:http://www.mairie-saintandrelepuy.fr/evenement/micro-folie-a-st-andre-le-puy/
ATTACH;FMTTYPE=image/jpeg:http://www.mairie-saintandrelepuy.fr/wp-content/uploads/2025/06/programme-micro-folie_page-0001.jpg
END:VEVENT
END:VCALENDAR