BEGIN:VCALENDAR
VERSION:2.0
PRODID:-//Site de la commune de Saint-André le Puy - ECPv4.6.14.1//NONSGML v1.0//EN
CALSCALE:GREGORIAN
METHOD:PUBLISH
X-WR-CALNAME:Site de la commune de Saint-André le Puy
X-ORIGINAL-URL:http://www.mairie-saintandrelepuy.fr
X-WR-CALDESC:Events for Site de la commune de Saint-André le Puy
BEGIN:VEVENT
DTSTART;TZID=Europe/Paris:20260430T190000
DTEND;TZID=Europe/Paris:20260430T223000
DTSTAMP:20260424T175644
CREATED:20240920T133023Z
LAST-MODIFIED:20260424T142811Z
UID:2618-1777575600-1777588200@www.mairie-saintandrelepuy.fr
SUMMARY:Date du prochain conseil municipal
DESCRIPTION:Le Conseil Municipal se réunira en Mairie : \nJeudi 30 avril 2026 à 19 H 00 \nORDRE DU JOUR\n* Approbation procès-verbal réunion du 02 avril 2026 rectifié et celui du 16 avril 2026 \n* Vote du budget primitif 2026 et fongibilité des crédits  \n*  Informations \n  \n  \n  \n  \n  \n  \n  \n  \n
URL:http://www.mairie-saintandrelepuy.fr/evenement/date-du-prochain-conseil-municipal/
LOCATION:place Michel Gachet\, SAINT ANDRE LE PUY\, 42210\, France
END:VEVENT
END:VCALENDAR